BEGIN:VCALENDAR
PRODID:-//eluceo/ical//2.0/EN
VERSION:2.0
CALSCALE:GREGORIAN
BEGIN:VEVENT
UID:event-166
DTSTAMP:20260424T142145Z
SUMMARY:Bezoek International Criminal Court
DESCRIPTION:Altijd al benieuwd naar de organisatie achter het ICC? Kom dan 
 mee op bezoek bij het International Criminal Court. Het ICC onderzoekt en
  berecht personen die worden beschuldigd van internationale misdrijven\, z
 oals genocide en oorlogsmisdrijven. Tijdens het bezoek krijgen wij een pre
 sentatie en alles te horen over de ICC. Ook is er ruimte om vragen te stel
 len tijdens een Q&amp\;A. 
DTSTART:20260506T080000Z
DTEND:20260506T093000Z
END:VEVENT
BEGIN:VTIMEZONE
TZID:UTC
BEGIN:STANDARD
DTSTART:20260506T080000
TZNAME:UTC
TZOFFSETTO:+0000
TZOFFSETFROM:+0000
END:STANDARD
END:VTIMEZONE
END:VCALENDAR
